BEGIN:VCALENDAR
VERSION:2.0
PRODID:-//Réseau des électroniciens et instrumentalistes - ECPv6.15.20//NONSGML v1.0//EN
CALSCALE:GREGORIAN
METHOD:PUBLISH
X-WR-CALNAME:Réseau des électroniciens et instrumentalistes
X-ORIGINAL-URL:https://www.electroniciens.cnrs.fr
X-WR-CALDESC:Évènements pour Réseau des électroniciens et instrumentalistes
REFRESH-INTERVAL;VALUE=DURATION:PT1H
X-Robots-Tag:noindex
X-PUBLISHED-TTL:PT1H
BEGIN:VTIMEZONE
TZID:Europe/Paris
BEGIN:DAYLIGHT
TZOFFSETFROM:+0100
TZOFFSETTO:+0200
TZNAME:CEST
DTSTART:20180325T010000
END:DAYLIGHT
BEGIN:STANDARD
TZOFFSETFROM:+0200
TZOFFSETTO:+0100
TZNAME:CET
DTSTART:20181028T010000
END:STANDARD
BEGIN:DAYLIGHT
TZOFFSETFROM:+0100
TZOFFSETTO:+0200
TZNAME:CEST
DTSTART:20190331T010000
END:DAYLIGHT
BEGIN:STANDARD
TZOFFSETFROM:+0200
TZOFFSETTO:+0100
TZNAME:CET
DTSTART:20191027T010000
END:STANDARD
BEGIN:DAYLIGHT
TZOFFSETFROM:+0100
TZOFFSETTO:+0200
TZNAME:CEST
DTSTART:20200329T010000
END:DAYLIGHT
BEGIN:STANDARD
TZOFFSETFROM:+0200
TZOFFSETTO:+0100
TZNAME:CET
DTSTART:20201025T010000
END:STANDARD
END:VTIMEZONE
BEGIN:VEVENT
DTSTART;TZID=Europe/Paris:20190605T090000
DTEND;TZID=Europe/Paris:20190606T170000
DTSTAMP:20260424T061459
CREATED:20190625T152236Z
LAST-MODIFIED:20190627T092538Z
UID:2070-1559725200-1559840400@www.electroniciens.cnrs.fr
SUMMARY:DR14 : Formation petits signaux / faible bruit 2019
DESCRIPTION:# OBJECTIFS\nRappel de la théorie du bruit dans les dispositifs électroniques\nSavoir maîtriser la protection des montages contre les perturbations\nMesure du bruit et de l’efficacité des câblages par la réalisation de travaux pratiques \n# PROGRAMME\nBruit dans les dispositifs électroniques (théorie) \n\n Introduction\nLes différentes origines du bruit de fond\nMéthode d’analyse du bruit (signaux aléatoires)\nBruit dans les quadripôles\n\nProtection des montages de mesure aux basses températures contre les perturbations électromagnétiques (théorie et exemples concrets) \n\n Introduction\nModes de transmission des perturbations\nModes de couplage\nProtection contre les perturbations électromagnétiques\nProblèmes des hautes fréquences\nPerturbations dues aux vibrations\nProtection contre les vibrations\nMicrophonisme\n\n# TRAVAUX PRATIQUES\n\n Mesure de bruit\nMesure bas niveau\nMesure de blindage\n\n# FORMATEUR\nJean-Luc Mocellin (CNRS UPR2940 – Institut Néel)
URL:https://www.electroniciens.cnrs.fr/event/dr14-formation-petits-signaux-faible-bruit-2019/
LOCATION:Observatoire Midi-Pyrénées (OMP)\, 14 Avenue Edouard Belin\, Toulouse\, 31400\, France
CATEGORIES:DR14,Formation
ATTACH;FMTTYPE=image/png:https://www.electroniciens.cnrs.fr/wp-content/uploads/2019/06/signal.png
ORGANIZER;CN="Lo%C3%AFc DRIGO":MAILTO:loic.drigo@get.omp.eu
END:VEVENT
END:VCALENDAR