BEGIN:VCALENDAR
VERSION:2.0
PRODID:-//Réseau des électroniciens et instrumentalistes - ECPv6.15.20//NONSGML v1.0//EN
CALSCALE:GREGORIAN
METHOD:PUBLISH
X-WR-CALNAME:Réseau des électroniciens et instrumentalistes
X-ORIGINAL-URL:https://www.electroniciens.cnrs.fr
X-WR-CALDESC:Évènements pour Réseau des électroniciens et instrumentalistes
REFRESH-INTERVAL;VALUE=DURATION:PT1H
X-Robots-Tag:noindex
X-PUBLISHED-TTL:PT1H
BEGIN:VTIMEZONE
TZID:Europe/Paris
BEGIN:DAYLIGHT
TZOFFSETFROM:+0100
TZOFFSETTO:+0200
TZNAME:CEST
DTSTART:20180325T010000
END:DAYLIGHT
BEGIN:STANDARD
TZOFFSETFROM:+0200
TZOFFSETTO:+0100
TZNAME:CET
DTSTART:20181028T010000
END:STANDARD
BEGIN:DAYLIGHT
TZOFFSETFROM:+0100
TZOFFSETTO:+0200
TZNAME:CEST
DTSTART:20190331T010000
END:DAYLIGHT
BEGIN:STANDARD
TZOFFSETFROM:+0200
TZOFFSETTO:+0100
TZNAME:CET
DTSTART:20191027T010000
END:STANDARD
BEGIN:DAYLIGHT
TZOFFSETFROM:+0100
TZOFFSETTO:+0200
TZNAME:CEST
DTSTART:20200329T010000
END:DAYLIGHT
BEGIN:STANDARD
TZOFFSETFROM:+0200
TZOFFSETTO:+0100
TZNAME:CET
DTSTART:20201025T010000
END:STANDARD
END:VTIMEZONE
BEGIN:VEVENT
DTSTART;TZID=Europe/Paris:20191119T090000
DTEND;TZID=Europe/Paris:20191119T120000
DTSTAMP:20260423T053420
CREATED:20191015T165630Z
LAST-MODIFIED:20191015T165800Z
UID:2190-1574154000-1574164800@www.electroniciens.cnrs.fr
SUMMARY:Séminaire Occitanie - IoT en vues : Objectif Objets Connectés
DESCRIPTION:Ce séminaire tentera de répondre à quelques questions : \n\nQuel type de capteur vous souhaitez connecter à un réseau de laboratoire ?\nQuel est l’OS que vous souhaiteriez privilégier ?\nQuel sont les droits qu’il faut obtenir auprès de votre administration réseau ?\nQuel type de serveur vous souhaitez installer (NGinx\, Apache) ?\nQuel est le protocole de communication pour vos capteurs le plus adapté.\nQuel est le niveau de sécurité à déployer dans votre laboratoire ?\nLe type de collecteur de données (broker) ?\nLa configuration de la base de données et la sauvegarde.\nLa configuration des applications de monitoring (comme par exemple : OpenHAB\, Domoticz\, Grafana\, Home Assistant\, etc…).
URL:https://www.electroniciens.cnrs.fr/event/seminaire-occitanie-iot-en-vues-objectif-objets-connectes/
LOCATION:Toulouse\, France
CATEGORIES:DR13,DR14,Formation
ATTACH;FMTTYPE=image/jpeg:https://www.electroniciens.cnrs.fr/wp-content/uploads/2019/10/M2M-IoT-Connectivity.jpg
END:VEVENT
BEGIN:VEVENT
DTSTART;TZID=Europe/Paris:20191119T093000
DTEND;TZID=Europe/Paris:20191119T170000
DTSTAMP:20260423T053420
CREATED:20191119T202540Z
LAST-MODIFIED:20191119T202540Z
UID:2255-1574155800-1574182800@www.electroniciens.cnrs.fr
SUMMARY:Réunion CoPil en présentiel à Paris
DESCRIPTION:
URL:https://www.electroniciens.cnrs.fr/event/reunion-copil-en-presentiel-a-paris/
LOCATION:LPNHE – UMR 7585 – CAMPUS JUSSIEU\, 4 Place Jussieu\, Paris\, 75005\, France
CATEGORIES:Réunion
ATTACH;FMTTYPE=image/png:https://www.electroniciens.cnrs.fr/wp-content/uploads/2017/10/copil_2017_noms-e1721652344945.png
ORGANIZER;CN="CoPil":MAILTO:comite-des-electroniciens@services.cnrs.fr
END:VEVENT
END:VCALENDAR