BEGIN:VCALENDAR
VERSION:2.0
PRODID:-//Réseau des électroniciens et instrumentalistes - ECPv6.15.20//NONSGML v1.0//EN
CALSCALE:GREGORIAN
METHOD:PUBLISH
X-ORIGINAL-URL:https://www.electroniciens.cnrs.fr
X-WR-CALDESC:Évènements pour Réseau des électroniciens et instrumentalistes
REFRESH-INTERVAL;VALUE=DURATION:PT1H
X-Robots-Tag:noindex
X-PUBLISHED-TTL:PT1H
BEGIN:VTIMEZONE
TZID:Europe/Paris
BEGIN:DAYLIGHT
TZOFFSETFROM:+0100
TZOFFSETTO:+0200
TZNAME:CEST
DTSTART:20180325T010000
END:DAYLIGHT
BEGIN:STANDARD
TZOFFSETFROM:+0200
TZOFFSETTO:+0100
TZNAME:CET
DTSTART:20181028T010000
END:STANDARD
BEGIN:DAYLIGHT
TZOFFSETFROM:+0100
TZOFFSETTO:+0200
TZNAME:CEST
DTSTART:20190331T010000
END:DAYLIGHT
BEGIN:STANDARD
TZOFFSETFROM:+0200
TZOFFSETTO:+0100
TZNAME:CET
DTSTART:20191027T010000
END:STANDARD
BEGIN:DAYLIGHT
TZOFFSETFROM:+0100
TZOFFSETTO:+0200
TZNAME:CEST
DTSTART:20200329T010000
END:DAYLIGHT
BEGIN:STANDARD
TZOFFSETFROM:+0200
TZOFFSETTO:+0100
TZNAME:CET
DTSTART:20201025T010000
END:STANDARD
END:VTIMEZONE
BEGIN:VEVENT
DTSTART;VALUE=DATE:20191120
DTEND;VALUE=DATE:20191121
DTSTAMP:20260424T093336
CREATED:20191017T132926Z
LAST-MODIFIED:20191115T152311Z
UID:2199-1574208000-1574294399@www.electroniciens.cnrs.fr
SUMMARY:Les ASSISES du RdE 2019
DESCRIPTION:Les assises du RdE constituent un moment privilégié d’échanges et de partages\, dans le but de renforcer le lien entre les réseaux régionaux et le réseau national. \nC’est ce lien qui donne à notre réseau ce dynamisme et cette richesse et qui se concrétise par toutes les actions que nous menons. \nODJ des assises : \n\nOrganisation des Assises 2019\nSuivi des actions en cours et à venir\nSuivi des ANF\n3ème Ecole technologique en Bretagne\nOrganisation R2T2\nProspectives sur les actions 2020\nLes nouveaux GT\nParticipation aux GT inter-réseaux\nOptimisation de l’organisation du CoPil\nDivers\n\nLe comité de pilotage national\,  CoPil <comite-des-electroniciens@services.cnrs.fr>\, prendra vos retour des sujets que vous souhaitez voir aborder pour cette session 2019.
URL:https://www.electroniciens.cnrs.fr/event/les-assises-du-rde-2019/
LOCATION:LPNHE – UMR 7585 – CAMPUS JUSSIEU\, 4 Place Jussieu\, Paris\, 75005\, France
CATEGORIES:DR02,DR04,DR05,DR06,DR07,DR08,DR10,DR11,DR12,DR13,DR14,DR15,DR17,DR18,DR19,Réunion
ATTACH;FMTTYPE=image/png:https://www.electroniciens.cnrs.fr/wp-content/uploads/2019/10/assises_rde_2019_v01.png
ORGANIZER;CN="CoPil":MAILTO:comite-des-electroniciens@services.cnrs.fr
END:VEVENT
END:VCALENDAR