BEGIN:VCALENDAR
VERSION:2.0
PRODID:-//Réseau des électroniciens et instrumentalistes - ECPv6.15.20//NONSGML v1.0//EN
CALSCALE:GREGORIAN
METHOD:PUBLISH
X-WR-CALNAME:Réseau des électroniciens et instrumentalistes
X-ORIGINAL-URL:https://www.electroniciens.cnrs.fr
X-WR-CALDESC:Évènements pour Réseau des électroniciens et instrumentalistes
REFRESH-INTERVAL;VALUE=DURATION:PT1H
X-Robots-Tag:noindex
X-PUBLISHED-TTL:PT1H
BEGIN:VTIMEZONE
TZID:Europe/Paris
BEGIN:DAYLIGHT
TZOFFSETFROM:+0100
TZOFFSETTO:+0200
TZNAME:CEST
DTSTART:20170326T010000
END:DAYLIGHT
BEGIN:STANDARD
TZOFFSETFROM:+0200
TZOFFSETTO:+0100
TZNAME:CET
DTSTART:20171029T010000
END:STANDARD
BEGIN:DAYLIGHT
TZOFFSETFROM:+0100
TZOFFSETTO:+0200
TZNAME:CEST
DTSTART:20180325T010000
END:DAYLIGHT
BEGIN:STANDARD
TZOFFSETFROM:+0200
TZOFFSETTO:+0100
TZNAME:CET
DTSTART:20181028T010000
END:STANDARD
BEGIN:DAYLIGHT
TZOFFSETFROM:+0100
TZOFFSETTO:+0200
TZNAME:CEST
DTSTART:20190331T010000
END:DAYLIGHT
BEGIN:STANDARD
TZOFFSETFROM:+0200
TZOFFSETTO:+0100
TZNAME:CET
DTSTART:20191027T010000
END:STANDARD
END:VTIMEZONE
BEGIN:VEVENT
DTSTART;VALUE=DATE:20181016
DTEND;VALUE=DATE:20181019
DTSTAMP:20260425T061331
CREATED:20181014T174632Z
LAST-MODIFIED:20240711T100157Z
UID:944-1539648000-1539907199@www.electroniciens.cnrs.fr
SUMMARY:DR17 : Formation KiCad\, délégation Bretagne Pays de la Loire
DESCRIPTION:Réalisation d’un projet de A à Z avec KiCad\nLe Réseau régional des Electroniciens et Instrumentalistes DR17 organise une formation sur le logiciel de CAO électronique open source KiCad EDA.\nCette action est soutenue par la Mission pour l’Interdisciplinarité. \nPublic\nLa formation est destinée aux chercheurs\, ingénieurs et techniciens.\nPrérequis : Notion de conception de carte électronique \nObjectifs\n\nGestion d’un projet sous KiCad\nSaisi de schéma et routage de carte\nConfiguration et vérification des règles de conception\nCréation de composant et gestion des librairies\n\nIntervenant\nArnauld Biganzoli\, Laboratoire Plasma et Conversion d’Energie – LAPLACE \nCNRS / Université Toulouse III – Paul Sabatier / INP
URL:https://www.electroniciens.cnrs.fr/event/formation-kicad-delegation-bretagne-pays-de-la-loire-dr-17-du-16-au-18-octobre-2018/
LOCATION:Institut National des Sciences Appliquées de Rennes 20 Avenue des Buttes de Coësmes CS 70839  35708 Rennes Cedex 7\, 20 Avenue des Buttes de Coësmes\, Rennes\, 35708\, France
CATEGORIES:DR17,Formation
ATTACH;FMTTYPE=image/jpeg:https://www.electroniciens.cnrs.fr/wp-content/uploads/2018/10/kicad_banner_1.jpg
ORGANIZER;CN="Fabien MARCO":MAILTO:fabien.marco@univ-tlse3.fr
END:VEVENT
END:VCALENDAR