BEGIN:VCALENDAR
VERSION:2.0
PRODID:-//Réseau des électroniciens et instrumentalistes - ECPv6.15.20//NONSGML v1.0//EN
CALSCALE:GREGORIAN
METHOD:PUBLISH
X-WR-CALNAME:Réseau des électroniciens et instrumentalistes
X-ORIGINAL-URL:https://www.electroniciens.cnrs.fr
X-WR-CALDESC:Évènements pour Réseau des électroniciens et instrumentalistes
REFRESH-INTERVAL;VALUE=DURATION:PT1H
X-Robots-Tag:noindex
X-PUBLISHED-TTL:PT1H
BEGIN:VTIMEZONE
TZID:Europe/Paris
BEGIN:DAYLIGHT
TZOFFSETFROM:+0100
TZOFFSETTO:+0200
TZNAME:CEST
DTSTART:20180325T010000
END:DAYLIGHT
BEGIN:STANDARD
TZOFFSETFROM:+0200
TZOFFSETTO:+0100
TZNAME:CET
DTSTART:20181028T010000
END:STANDARD
BEGIN:DAYLIGHT
TZOFFSETFROM:+0100
TZOFFSETTO:+0200
TZNAME:CEST
DTSTART:20190331T010000
END:DAYLIGHT
BEGIN:STANDARD
TZOFFSETFROM:+0200
TZOFFSETTO:+0100
TZNAME:CET
DTSTART:20191027T010000
END:STANDARD
BEGIN:DAYLIGHT
TZOFFSETFROM:+0100
TZOFFSETTO:+0200
TZNAME:CEST
DTSTART:20200329T010000
END:DAYLIGHT
BEGIN:STANDARD
TZOFFSETFROM:+0200
TZOFFSETTO:+0100
TZNAME:CET
DTSTART:20201025T010000
END:STANDARD
END:VTIMEZONE
BEGIN:VEVENT
DTSTART;VALUE=DATE:20190909
DTEND;VALUE=DATE:20190914
DTSTAMP:20260424T055721
CREATED:20190909T120037Z
LAST-MODIFIED:20190909T120037Z
UID:2152-1567987200-1568419199@www.electroniciens.cnrs.fr
SUMMARY:ANF - Visualisation des données sous Python
DESCRIPTION:Programme\n\nRéaliser des graphiques avec des bibliothèques graphiques sans interfaces graphiques\nRéaliser des interfaces graphiques pour en améliorer l’interaction\nRéaliser des graphiques interactifs au sein de jupyter notebook\nRéaliser des graphiques interactifs dans des pages html\nRéaliser des graphiques interactifs dans un serveur
URL:https://www.electroniciens.cnrs.fr/event/anf-visualisation-des-donnees-sous-python/
LOCATION:Bordeaux\, France
CATEGORIES:Formation
ATTACH;FMTTYPE=image/png:https://www.electroniciens.cnrs.fr/wp-content/uploads/2019/09/image_visu_data_python.png
ORGANIZER;CN="CoPil":MAILTO:comite-des-electroniciens@services.cnrs.fr
END:VEVENT
BEGIN:VEVENT
DTSTART;VALUE=DATE:20190917
DTEND;VALUE=DATE:20190920
DTSTAMP:20260424T055721
CREATED:20190627T093803Z
LAST-MODIFIED:20190627T125613Z
UID:2080-1568678400-1568937599@www.electroniciens.cnrs.fr
SUMMARY:DR15-DR08 : Formation JAVA
DESCRIPTION:Le RDE organise en septembre une formation Java faisant suite à nos formations UML\, LabVIEW orienté objet\, C++ . \nCette formation JAVA sera organisée les 17/18/19 septembre 2019 au Château de Brivazac. Elle sera assurée par Frédéric Camps du LAAS\, spécialiste reconnu de la programmation orientée objet. \nCette formation sera la dernière de cette série\, elle vous apportera les notions de base indispensables pour débuter en JAVA. \nJAVA est le langage multiplateforme le plus utilisé\, c’est un langage orienté objet à la syntaxe proche du C++ qui incorpore des facilités de gestion de la mémoire\, des threads\, des erreurs…. \nLa connaissance d’un langage de programmation et des bases de conception orientée objet sont des prérequis indispensables pour suivre cette formation. \n \nInscription :\n\nhttps://services.aquitaine.cnrs.fr/limesurvey/index.php/941924/lang-fr \n \nDate limite :\n 30 Août 2019 \nUne douzaine de places sont disponibles\, les plus motivé(e)s seront retenu(e)s.
URL:https://www.electroniciens.cnrs.fr/event/dr15-dr08-formation-java/
LOCATION:Château de Brivazac\, Château de Brivazac\, Avenue Albert Schweitzer\, PESSAC\, Aquitaine\, 33600\, France
CATEGORIES:DR08,DR15
ATTACH;FMTTYPE=image/png:https://www.electroniciens.cnrs.fr/wp-content/uploads/2019/06/RDE.DR15.FP_2019.09.17_formation_java.png
ORGANIZER;CN="comite-regional-rde-dr15":MAILTO:comite-regional-rde-dr15@services.cnrs.fr
END:VEVENT
BEGIN:VEVENT
DTSTART;TZID=Europe/Paris:20190917T093000
DTEND;TZID=Europe/Paris:20190917T123000
DTSTAMP:20260424T055721
CREATED:20190917T062250Z
LAST-MODIFIED:20190917T062250Z
UID:2156-1568712600-1568723400@www.electroniciens.cnrs.fr
SUMMARY:DR14 - Séminaire PyMoDAQ
DESCRIPTION:PyMoDaq est un outil open source pour créer son interface graphique. Son développeur Sébastien Weber\,  du Centre d’Élaboration de Matériaux et d’Etudes Structurales (CEMES – CNRS – UPR 8011)\, à conçu ce logiciel afin qu’il soit accessible à tous. Il est une alternative aux outils d’interface graphique (tel que: LabVIEW\, MATLAB…)\, et permet de contrôler vos appareils de mesure\, générateurs\, capteurs et détecteurs. Il a l’avantage d’être compatible Windows\, Mac et Linux. \nPour plus de détails\, visitez : \n\nSite web\nLe wiki RdE\nOffre de formation
URL:https://www.electroniciens.cnrs.fr/event/dr14-seminaire-pymodaq/
LOCATION:Salle de conférence du CEMES à TOULOUSE\, 29 rue Jeanne Marvig\, TOULOUSE\, 31400\, France
CATEGORIES:DR14
ATTACH;FMTTYPE=image/png:https://www.electroniciens.cnrs.fr/wp-content/uploads/2019/09/Flyer_PyMoDAQ.png
END:VEVENT
BEGIN:VEVENT
DTSTART;TZID=Europe/Paris:20190918T133000
DTEND;TZID=Europe/Paris:20190918T160000
DTSTAMP:20260424T055721
CREATED:20191119T192349Z
LAST-MODIFIED:20191119T192349Z
UID:2242-1568813400-1568822400@www.electroniciens.cnrs.fr
SUMMARY:Réunion du CPR Occitanie
DESCRIPTION:Ordre du jour 1 : Compte rendu du CoPil\nOrdre du jour 2 : Formations 2019\n CEM\n STM32\n Zynq 7000\n RPi/Python\n Séminaire PyMoDaq\n Séminaire IoT \nOrdre du jour 3 : Prochaine rencontre régionale\nOrdre du jour 4 : Questions diverses
URL:https://www.electroniciens.cnrs.fr/event/reunion-du-cpr-occitanie-3/
LOCATION:Salle de conférence du CEMES à TOULOUSE\, 29 rue Jeanne Marvig\, TOULOUSE\, 31400\, France
CATEGORIES:DR14,Réunion
ATTACH;FMTTYPE=image/png:https://www.electroniciens.cnrs.fr/wp-content/uploads/2019/10/logo_rde_occitanie.png
END:VEVENT
END:VCALENDAR