BEGIN:VCALENDAR
VERSION:2.0
PRODID:-//Réseau des électroniciens et instrumentalistes - ECPv6.15.20//NONSGML v1.0//EN
CALSCALE:GREGORIAN
METHOD:PUBLISH
X-WR-CALNAME:Réseau des électroniciens et instrumentalistes
X-ORIGINAL-URL:https://www.electroniciens.cnrs.fr
X-WR-CALDESC:Évènements pour Réseau des électroniciens et instrumentalistes
REFRESH-INTERVAL;VALUE=DURATION:PT1H
X-Robots-Tag:noindex
X-PUBLISHED-TTL:PT1H
BEGIN:VTIMEZONE
TZID:Europe/Paris
BEGIN:DAYLIGHT
TZOFFSETFROM:+0100
TZOFFSETTO:+0200
TZNAME:CEST
DTSTART:20180325T010000
END:DAYLIGHT
BEGIN:STANDARD
TZOFFSETFROM:+0200
TZOFFSETTO:+0100
TZNAME:CET
DTSTART:20181028T010000
END:STANDARD
BEGIN:DAYLIGHT
TZOFFSETFROM:+0100
TZOFFSETTO:+0200
TZNAME:CEST
DTSTART:20190331T010000
END:DAYLIGHT
BEGIN:STANDARD
TZOFFSETFROM:+0200
TZOFFSETTO:+0100
TZNAME:CET
DTSTART:20191027T010000
END:STANDARD
BEGIN:DAYLIGHT
TZOFFSETFROM:+0100
TZOFFSETTO:+0200
TZNAME:CEST
DTSTART:20200329T010000
END:DAYLIGHT
BEGIN:STANDARD
TZOFFSETFROM:+0200
TZOFFSETTO:+0100
TZNAME:CET
DTSTART:20201025T010000
END:STANDARD
END:VTIMEZONE
BEGIN:VEVENT
DTSTART;VALUE=DATE:20191008
DTEND;VALUE=DATE:20191009
DTSTAMP:20260424T042619
CREATED:20190902T085616Z
LAST-MODIFIED:20190905T122054Z
UID:2116-1570492800-1570579199@www.electroniciens.cnrs.fr
SUMMARY:Journée IoT Clermont-Fd
DESCRIPTION:Consultez l’article pour connaître tous les détails. \nSalle : Amphi Recherche.
URL:https://www.electroniciens.cnrs.fr/event/journee-iot-clermont-fd/
LOCATION:Clermont-Ferrand – Les Cézeaux\, 4 avenue Blaise Pascal\, Aubière\, 63170\, France
CATEGORIES:DR07
ATTACH;FMTTYPE=image/jpeg:https://www.electroniciens.cnrs.fr/wp-content/uploads/2019/09/iot-3404892_1920.jpg
ORGANIZER;CN="David Picard":MAILTO:d.picard@opgc.univ-bpclermont.fr
END:VEVENT
BEGIN:VEVENT
DTSTART;TZID=Europe/Paris:20191014T131500
DTEND;TZID=Europe/Paris:20191014T162000
DTSTAMP:20260424T042619
CREATED:20191015T160640Z
LAST-MODIFIED:20191119T191328Z
UID:2181-1571058900-1571070000@www.electroniciens.cnrs.fr
SUMMARY:Réunion du CPR Occitanie
DESCRIPTION:L’ordre du jour de cette réunion sera le suivant : \n\nRencontre des 20 ans du réseau régional\nFormations 2019\n\nCEM\nAltium\nSTM32\nZynq 7000\nSéminaire IoT\n\n\nAssises\nQuestions diverses
URL:https://www.electroniciens.cnrs.fr/event/reunion-du-cpr-occitanie/
LOCATION:Salle de conférence du CEMES à TOULOUSE\, 29 rue Jeanne Marvig\, TOULOUSE\, 31400\, France
CATEGORIES:DR14
ATTACH;FMTTYPE=image/png:https://www.electroniciens.cnrs.fr/wp-content/uploads/2019/10/logo_rde_occitanie.png
END:VEVENT
BEGIN:VEVENT
DTSTART;VALUE=DATE:20191029
DTEND;VALUE=DATE:20191101
DTSTAMP:20260424T042619
CREATED:20191017T131625Z
LAST-MODIFIED:20191017T131625Z
UID:2195-1572307200-1572566399@www.electroniciens.cnrs.fr
SUMMARY:DR14 Occitanie - Formation CEM des Mesures Physiques
DESCRIPTION:Cette formation\, réaliser par la société AEMC\, a pour but la maîtrise des installations de mesures sensibles dans la recherche. \nAprès un rappel des sources de perturbations et de couplages\, une partie importante du programme est consacrée à la mise en œuvre des liaisons et aux choix des moyens de mesures. \n  \nPROGRAMME \n\nEtre capable d’identifier et de comprendre les couplages CEM\nPouvoir identifier les sources de perturbation\nEtre capable d’appliquer les méthodes de protection Basse Fréquence\nEtre capable d’appliquer les méthodes de protection Haute Fréquence\nSavoir adapter les méthodes de mesure d’investigation CEM sur site\n\nPUBLIC \nCe stage s’adresse aux ingénieurs\, techniciens et câbleurs impliqués dans la mise en œuvre de mesures de signaux\, principalement à bas niveaux ou en environnement perturbé.
URL:https://www.electroniciens.cnrs.fr/event/dr14-occitanie-formation-cem-des-mesures-physiques/
LOCATION:IRAP\, 9 Avenue du Colonel Roche\, Toulouse\, 31028\, France
CATEGORIES:DR14,Formation
ATTACH;FMTTYPE=image/jpeg:https://www.electroniciens.cnrs.fr/wp-content/uploads/2019/10/cem.jpg
END:VEVENT
END:VCALENDAR