BEGIN:VCALENDAR
VERSION:2.0
PRODID:-//Réseau des électroniciens et instrumentalistes - ECPv6.15.20//NONSGML v1.0//EN
CALSCALE:GREGORIAN
METHOD:PUBLISH
X-WR-CALNAME:Réseau des électroniciens et instrumentalistes
X-ORIGINAL-URL:https://www.electroniciens.cnrs.fr
X-WR-CALDESC:Évènements pour Réseau des électroniciens et instrumentalistes
REFRESH-INTERVAL;VALUE=DURATION:PT1H
X-Robots-Tag:noindex
X-PUBLISHED-TTL:PT1H
BEGIN:VTIMEZONE
TZID:Europe/Paris
BEGIN:DAYLIGHT
TZOFFSETFROM:+0100
TZOFFSETTO:+0200
TZNAME:CEST
DTSTART:20210328T010000
END:DAYLIGHT
BEGIN:STANDARD
TZOFFSETFROM:+0200
TZOFFSETTO:+0100
TZNAME:CET
DTSTART:20211031T010000
END:STANDARD
BEGIN:DAYLIGHT
TZOFFSETFROM:+0100
TZOFFSETTO:+0200
TZNAME:CEST
DTSTART:20220327T010000
END:DAYLIGHT
BEGIN:STANDARD
TZOFFSETFROM:+0200
TZOFFSETTO:+0100
TZNAME:CET
DTSTART:20221030T010000
END:STANDARD
BEGIN:DAYLIGHT
TZOFFSETFROM:+0100
TZOFFSETTO:+0200
TZNAME:CEST
DTSTART:20230326T010000
END:DAYLIGHT
BEGIN:STANDARD
TZOFFSETFROM:+0200
TZOFFSETTO:+0100
TZNAME:CET
DTSTART:20231029T010000
END:STANDARD
END:VTIMEZONE
BEGIN:VEVENT
DTSTART;TZID=Europe/Paris:20220112T093000
DTEND;TZID=Europe/Paris:20220112T173000
DTSTAMP:20260423T090629
CREATED:20230227T083124Z
LAST-MODIFIED:20230227T083124Z
UID:3637-1641979800-1642008600@www.electroniciens.cnrs.fr
SUMMARY:Visio du GT-KiCad sur le logiciel KiCad EDA version 6.0
DESCRIPTION:Le Réseau Des Electroniciens propose à ses membres un moment d’échange\, avec possibilité de voir une démonstration en live du logiciel de routage KiCad pour la sortie de sa version 6.0 lors d’une visioconférence : \nMercredi 12 janvier 2022 de 9h30 à 17h30\nLien de la visio ZOOM dans le mail RdE_National\ncontact de l’animateur du GT-KiCad \nLe but est de faire un rapide tour des possibilités offertes par cette nouvelle version\, mais également de rassembler ceux intéressés par cet outil afin de permettre de favoriser les échanges et partages d’expériences. \nNous pourrons aborder par exemple : \n\nles grands principes de l’utilisation du logiciel\nla notion de feuilles de schéma hiérarchique\nla création de composant (symbole et empreinte)\nla gestion du stackup (empilement des couches du PCB)\nla visualisation 3D
URL:https://www.electroniciens.cnrs.fr/event/visio-du-gt-kicad-sur-le-logiciel-kicad-eda-version-6-0-le-12-01-2022/
CATEGORIES:Formation
ATTACH;FMTTYPE=image/png:https://www.electroniciens.cnrs.fr/wp-content/uploads/2018/09/kicad.png
ORGANIZER;CN="Arnauld BIGANZOLI":MAILTO:biganzoli@laplace.univ-tlse.fr
END:VEVENT
END:VCALENDAR